BEGIN:VCALENDAR
VERSION:2.0
PRODID:-//Lean Business Ireland - ECPv6.15.12.2//NONSGML v1.0//EN
CALSCALE:GREGORIAN
METHOD:PUBLISH
X-WR-CALNAME:Lean Business Ireland
X-ORIGINAL-URL:https://stage.leanbusinessireland.ie
X-WR-CALDESC:Events for Lean Business Ireland
REFRESH-INTERVAL;VALUE=DURATION:PT1H
X-Robots-Tag:noindex
X-PUBLISHED-TTL:PT1H
BEGIN:VTIMEZONE
TZID:Europe/Dublin
BEGIN:STANDARD
TZOFFSETFROM:+0000
TZOFFSETTO:+0100
TZNAME:IST
DTSTART:20230326T010000
END:STANDARD
BEGIN:DAYLIGHT
TZOFFSETFROM:+0100
TZOFFSETTO:+0000
TZNAME:GMT
DTSTART:20231029T010000
END:DAYLIGHT
BEGIN:STANDARD
TZOFFSETFROM:+0000
TZOFFSETTO:+0100
TZNAME:IST
DTSTART:20240331T010000
END:STANDARD
BEGIN:DAYLIGHT
TZOFFSETFROM:+0100
TZOFFSETTO:+0000
TZNAME:GMT
DTSTART:20241027T010000
END:DAYLIGHT
BEGIN:STANDARD
TZOFFSETFROM:+0000
TZOFFSETTO:+0100
TZNAME:IST
DTSTART:20250330T010000
END:STANDARD
BEGIN:DAYLIGHT
TZOFFSETFROM:+0100
TZOFFSETTO:+0000
TZNAME:GMT
DTSTART:20251026T010000
END:DAYLIGHT
END:VTIMEZONE
BEGIN:VEVENT
DTSTART;TZID=Europe/Dublin:20240326T080000
DTEND;TZID=Europe/Dublin:20240327T170000
DTSTAMP:20260424T112601
CREATED:20240320T131723Z
LAST-MODIFIED:20240320T131723Z
UID:25567-1711440000-1711558800@stage.leanbusinessireland.ie
SUMMARY:Toyota 1.5 Day Lean Management Workshop – Engine Plant 26th & 27th March 2024
DESCRIPTION:Enterprise Ireland will be facilitating a group training visit with their clients to the Toyota Engine Manufacturing Plant in Deeside \, North Wales. \nThe next Visit will run from the 26th to 27th March 2024 \nDelegates will\, through the use of simulation techniques\, extensive worksite study and classroom presentation\, grasp the meaning of key elements of TPS and gain appreciation of its practical application. They will understand the culture and performance management tools that exist in order to ensure TPS can be sustained and provide the highest levels of operational performance. \nDelegates will also understand the process steps for implementation and their role in leading a Lean Transformation \nThe participation fee is €1\,000 plus 23% VAT per delegate\, and includes the following: \n\nEnterprise Ireland will facilitate the group visit & transfers to and from the airport\, plant and nominated hotel.\nAttendance at Toyota 1.5 Day Lean Management Workshop.\n\n  \nFlights and Hotel accommodation and any other on the ground expenditure is not included in the fee and is the responsibility of each delegate. Enterprise Ireland will advise which flights and hotels to book upon confirmation of registration. \n  \nRegistration and Payment \nEarly registration is advisable as we are limited to max 18 delegates per trip. Places are in high demand and will be allocated on a first come\, first served basis. \nClick here to register \n\nYour participation will be confirmed on receipt of the full payment of €1000+Vat per delegate.\nPayment is by credit card at the end of the online registration.\n\n  \nIf you experience any problems with the payment process\, please call  01-7272000 and ask for Accounts Receivable. Please note a full VAT invoice will be issued within the 15th day of the month following the fee payment date. The invoice will be marked as paid.
URL:https://stage.leanbusinessireland.ie/event/toyota-1-5-day-lean-management-workshop-engine-plant-26th-27th-march-2024/
LOCATION:Toyota Lean Management Centre UK\, Deeside\, Flintshire\, North Wales\, United Kingdom
CATEGORIES:All Events
ATTACH;FMTTYPE=image/png:https://stage.leanbusinessireland.ie/wp-content/uploads/2024/03/ei2-logo.png
END:VEVENT
END:VCALENDAR