BEGIN:VCALENDAR
VERSION:2.0
PRODID:-//Lean Business Ireland - ECPv6.15.12.2//NONSGML v1.0//EN
CALSCALE:GREGORIAN
METHOD:PUBLISH
X-ORIGINAL-URL:https://stage.leanbusinessireland.ie
X-WR-CALDESC:Events for Lean Business Ireland
REFRESH-INTERVAL;VALUE=DURATION:PT1H
X-Robots-Tag:noindex
X-PUBLISHED-TTL:PT1H
BEGIN:VTIMEZONE
TZID:Europe/Dublin
BEGIN:STANDARD
TZOFFSETFROM:+0000
TZOFFSETTO:+0100
TZNAME:IST
DTSTART:20220327T010000
END:STANDARD
BEGIN:DAYLIGHT
TZOFFSETFROM:+0100
TZOFFSETTO:+0000
TZNAME:GMT
DTSTART:20221030T010000
END:DAYLIGHT
BEGIN:STANDARD
TZOFFSETFROM:+0000
TZOFFSETTO:+0100
TZNAME:IST
DTSTART:20230326T010000
END:STANDARD
BEGIN:DAYLIGHT
TZOFFSETFROM:+0100
TZOFFSETTO:+0000
TZNAME:GMT
DTSTART:20231029T010000
END:DAYLIGHT
BEGIN:STANDARD
TZOFFSETFROM:+0000
TZOFFSETTO:+0100
TZNAME:IST
DTSTART:20240331T010000
END:STANDARD
BEGIN:DAYLIGHT
TZOFFSETFROM:+0100
TZOFFSETTO:+0000
TZNAME:GMT
DTSTART:20241027T010000
END:DAYLIGHT
END:VTIMEZONE
BEGIN:VTIMEZONE
TZID:UTC
BEGIN:STANDARD
TZOFFSETFROM:+0000
TZOFFSETTO:+0000
TZNAME:UTC
DTSTART:20220101T000000
END:STANDARD
END:VTIMEZONE
BEGIN:VEVENT
DTSTART;TZID=Europe/Dublin:20230517T073000
DTEND;TZID=Europe/Dublin:20230517T160000
DTSTAMP:20260425T005446
CREATED:20230322T143239Z
LAST-MODIFIED:20230322T143239Z
UID:25321-1684308600-1684339200@stage.leanbusinessireland.ie
SUMMARY:Visit to Toyota UK
DESCRIPTION:[vc_row type=”in_container” full_screen_row_position=”middle” equal_height=”yes” scene_position=”center” text_color=”dark” text_align=”left” overlay_strength=”0.3″][vc_column column_padding=”no-extra-padding” column_padding_position=”all” background_color_opacity=”1″ background_hover_color_opacity=”1″ column_shadow=”none” width=”1/1″ tablet_text_alignment=”default” phone_text_alignment=”default” column_border_width=”none” column_border_style=”solid”][vc_custom_heading text=”About the Visit” google_fonts=”font_family:Dosis%3A200%2C300%2Cregular%2C500%2C600%2C700%2C800|font_style:400%20regular%3A400%3Anormal” css_animation=”right-to-left”][divider line_type=”Small Line” line_thickness=”3″ divider_color=”accent-color”][vc_column_text]On 17th May\, the Dublin Lean Network are travelling to the UK for a visit to Toyota for an in-depth introduction to the world famous Toyota Production System (TPS).  This visit also includes: \n–  A visit to their 3 Best Development Obeya – structuring and visualising job roles as a key tool for member and operations development. \n–  A visit to their Quality Learning Centre where they reinforce Toyota’s quality activity in each member through experiential learning. \n–  Experiential shopfloor tours making the link from theory to practice. \n–  A Q&A session with Senior Management.[/vc_column_text][divider line_type=”No Line”][text-with-icon icon_type=”font_icon” icon=”icon-envelope-alt” color=”Accent-Color”]This is an important event not to be missed – please contact stevehalpin@leanteams.com as soon as possible to reserve your place.[/text-with-icon][text-with-icon icon_type=”font_icon” icon=”icon-th-list” color=”Accent-Color”]Please refer the itenerary below:-[/text-with-icon][image_with_animation image_url=”25317″ alignment=”” animation=”Fade In” box_shadow=”none” max_width=”100%”][/vc_column][/vc_row]
URL:https://stage.leanbusinessireland.ie/event/visit-to-toyota-uk/
LOCATION:Toyota Lean Management Centre UK\, Deeside\, Flintshire\, North Wales\, United Kingdom
CATEGORIES:Dublin Lean Network
ATTACH;FMTTYPE=image/jpeg:https://stage.leanbusinessireland.ie/wp-content/uploads/2023/03/Totyota.jpg
END:VEVENT
BEGIN:VEVENT
DTSTART;TZID=Europe/Dublin:20230518T083000
DTEND;TZID=Europe/Dublin:20230518T153000
DTSTAMP:20260425T005446
CREATED:20230512T151411Z
LAST-MODIFIED:20230512T151558Z
UID:25379-1684398600-1684423800@stage.leanbusinessireland.ie
SUMMARY:Leaders in Excellence - Conference
DESCRIPTION:Thursday 18th May @8:30am-3:30pm\n“Leaders in Excellence” Conference (pdf version)\nAnalog Devices Building\, University of Limerick
URL:https://stage.leanbusinessireland.ie/event/leaders-in-excellence-conference/
LOCATION:Meath
CATEGORIES:Conference
END:VEVENT
BEGIN:VEVENT
DTSTART;VALUE=DATE:20230531
DTEND;VALUE=DATE:20230601
DTSTAMP:20260425T005446
CREATED:20230118T173344Z
LAST-MODIFIED:20240103T200355Z
UID:25202-1685491200-1685577599@stage.leanbusinessireland.ie
SUMMARY:Lean Business Ireland Annual Conference 2023
DESCRIPTION:[vc_row type=”full_width_background” full_screen_row_position=”middle” bg_image=”25185″ bg_position=”center center” bg_repeat=”no-repeat” bg_color=”#383838″ scene_position=”center” text_color=”light” text_align=”left” top_padding=”10%” bottom_padding=”10%” color_overlay=”#0a0101″ overlay_strength=”0.5″][vc_column centered_text=”true” column_padding=”no-extra-padding” column_padding_position=”all” background_color_opacity=”1″ background_hover_color_opacity=”1″ column_shadow=”none” width=”1/1″ tablet_text_alignment=”default” phone_text_alignment=”default” column_border_width=”none” column_border_style=”solid”][nectar_btn size=”extra_jumbo” open_new_tab=”true” button_style=”see-through-3d” url=”https://eeireland.com/” text=”View Website”][/vc_column][/vc_row]
URL:https://stage.leanbusinessireland.ie/event/lean-business-ireland-annual-conference-2023/
LOCATION:SETU Arena Waterford
CATEGORIES:Conference
ATTACH;FMTTYPE=image/png:https://stage.leanbusinessireland.ie/wp-content/uploads/2022/01/Mid-West-Lean-Network.png
END:VEVENT
BEGIN:VEVENT
DTSTART;VALUE=DATE:20230531
DTEND;VALUE=DATE:20230601
DTSTAMP:20260425T005446
CREATED:20230322T151613Z
LAST-MODIFIED:20230322T151613Z
UID:25327-1685491200-1685577599@stage.leanbusinessireland.ie
SUMMARY:Conference - Enterprise Excellence 2023
DESCRIPTION:[vc_row type=”in_container” full_screen_row_position=”middle” equal_height=”yes” scene_position=”center” text_color=”dark” text_align=”left” overlay_strength=”0.3″][vc_column column_padding=”no-extra-padding” column_padding_position=”all” background_color_opacity=”1″ background_hover_color_opacity=”1″ column_shadow=”none” width=”1/1″ tablet_text_alignment=”default” phone_text_alignment=”default” column_border_width=”none” column_border_style=”solid”][vc_custom_heading text=”About the Conference” google_fonts=”font_family:Dosis%3A200%2C300%2Cregular%2C500%2C600%2C700%2C800|font_style:400%20regular%3A400%3Anormal” css_animation=”right-to-left”][divider line_type=”Small Line” line_thickness=”3″ divider_color=”accent-color”][vc_column_text]In its 7th year of providing the Irish business community with the opportunity to share\, learn\, and continuously improve\, the Lean Business Ireland conference 2023 will return in person at the SETU Arena in Waterford. \nThe Lean Business Ireland Conference will once again bring together organisations from all over the world to explore the ideas and implementation of Lean Management in industries such as manufacturing\, services\, and construction. \nThis International event is primarily intended to foster engagement and networking within the Irish and International Lean Management communities.  In addition\, it will encourage open discussion among businesses at various stages of their Lean journey\, while showcasing Ireland’s excellence on the international stage. \nThe Dublin Lean Network will be there to talk to you about Lean in Dublin and Ireland. \n– Share your own Lean journey. \n– Connect with Lean professionals and practitioners specialising in Continuous Improvement. \n–  Establish new connections within the Lean Community in Dublin and Ireland. \n– Learn how companies have successfully implemented Continuous Improvement programmes.[/vc_column_text][divider line_type=”No Line”][text-with-icon icon_type=”font_icon” icon=”icon-envelope-alt” color=”Accent-Color”]Register for this event https://eeireland.com/lbi-registration/[/text-with-icon][/vc_column][/vc_row]
URL:https://stage.leanbusinessireland.ie/event/conference-enterprise-excellence-2023/
LOCATION:SETU Arena Waterford
ATTACH;FMTTYPE=image/jpeg:https://stage.leanbusinessireland.ie/wp-content/uploads/2023/01/Waterford-City-reflection-scaled-1.jpg
END:VEVENT
END:VCALENDAR