BEGIN:VCALENDAR
VERSION:2.0
PRODID:-//Lean Business Ireland - ECPv6.15.12.2//NONSGML v1.0//EN
CALSCALE:GREGORIAN
METHOD:PUBLISH
X-WR-CALNAME:Lean Business Ireland
X-ORIGINAL-URL:https://stage.leanbusinessireland.ie
X-WR-CALDESC:Events for Lean Business Ireland
REFRESH-INTERVAL;VALUE=DURATION:PT1H
X-Robots-Tag:noindex
X-PUBLISHED-TTL:PT1H
BEGIN:VTIMEZONE
TZID:Europe/Dublin
BEGIN:STANDARD
TZOFFSETFROM:+0000
TZOFFSETTO:+0100
TZNAME:IST
DTSTART:20240331T010000
END:STANDARD
BEGIN:DAYLIGHT
TZOFFSETFROM:+0100
TZOFFSETTO:+0000
TZNAME:GMT
DTSTART:20241027T010000
END:DAYLIGHT
BEGIN:STANDARD
TZOFFSETFROM:+0000
TZOFFSETTO:+0100
TZNAME:IST
DTSTART:20250330T010000
END:STANDARD
BEGIN:DAYLIGHT
TZOFFSETFROM:+0100
TZOFFSETTO:+0000
TZNAME:GMT
DTSTART:20251026T010000
END:DAYLIGHT
BEGIN:STANDARD
TZOFFSETFROM:+0000
TZOFFSETTO:+0100
TZNAME:IST
DTSTART:20260329T010000
END:STANDARD
BEGIN:DAYLIGHT
TZOFFSETFROM:+0100
TZOFFSETTO:+0000
TZNAME:GMT
DTSTART:20261025T010000
END:DAYLIGHT
BEGIN:STANDARD
TZOFFSETFROM:+0000
TZOFFSETTO:+0100
TZNAME:IST
DTSTART:20270328T010000
END:STANDARD
BEGIN:DAYLIGHT
TZOFFSETFROM:+0100
TZOFFSETTO:+0000
TZNAME:GMT
DTSTART:20271031T010000
END:DAYLIGHT
END:VTIMEZONE
BEGIN:VEVENT
DTSTART;TZID=Europe/Dublin:20251020T080000
DTEND;TZID=Europe/Dublin:20251021T170000
DTSTAMP:20260420T092615
CREATED:20250808T081843Z
LAST-MODIFIED:20250808T081843Z
UID:25994-1760947200-1761066000@stage.leanbusinessireland.ie
SUMMARY:Gemba Summit 2025
DESCRIPTION:Built for the people who live and lead at the Gemba – the place where real work happens. This event is all about practical\, hands-on improvement in manufacturing and operations. \nYou’ll hear from seasoned leaders and frontline experts who’ve successfully cut waste\, improved processes\, and built strong Lean cultures that last. \nWhether you’re on the shop floor\, in operations\, or guiding continuous improvement\, Gemba Summit gives you the tools\, insights\, and inspiration to make real change – every day. \nWith impactful keynotes\, interactive workshops\, and real-world case studies\, this is where Lean thinking turns into Lean doing.
URL:https://stage.leanbusinessireland.ie/event/gemba-summit-2025/
LOCATION:Titanic Belfast\, 1 Olympic Wy\, Belfast\, BT3 9EP\, Ireland
CATEGORIES:All Events
ATTACH;FMTTYPE=image/jpeg:https://stage.leanbusinessireland.ie/wp-content/uploads/2025/08/gemba.jpg
END:VEVENT
BEGIN:VEVENT
DTSTART;TZID=Europe/Dublin:20251023T173000
DTEND;TZID=Europe/Dublin:20251023T173000
DTSTAMP:20260420T092616
CREATED:20250731T114921Z
LAST-MODIFIED:20250731T114921Z
UID:25911-1761240600-1761240600@stage.leanbusinessireland.ie
SUMMARY:LBI Excellence Awards 2025
DESCRIPTION:The Annual LBI Awards Ceremony takes place in Johnstown Estate\, Co. Meath on the 23rd of October 2025\n\n\n\n\n\n\n\n\n\n\n\n\nIreland is viewed at home and abroad as a global exemplar in Lean\, Continuous Improvement\, and Organisational\, Operational\, and Enterprise Excellence. \nThe Annual LBI Awards Ceremony brings together the all-island Lean ecosystem and community of learning and practice to recognise and celebrate excellence across public and private organisations of all scales and sizes\, and from across all sectors. \nThe Annual LBI Awards Ceremony is a wonderful opportunity to socialise and network with fellow Lean and Continuous Improvement colleagues from all around Ireland. The LBI Awards are open to entries from organisations that can demonstrate the effective implementation of Lean thinking and practices in their organisational\, operational\, and enterprise excellence journeys. \nThere is no charge to submit entries for the LBI Awards\, and organisations can enter up to three categories. \nThe deadline for entries is the 23rd of August 2025\, so please do not delay in submitting your entries. \nThe LBI Steering Committee wishes all entrants the best of luck\, and we look forward to meeting you at the Annual LBI Awards Ceremony in Johnstown Estate\, Co. Meath on the 23rd of October 2025.
URL:https://stage.leanbusinessireland.ie/event/lbi-excellence-awards-2025/
LOCATION:Johnstown Estate Hotel\, Meath\, A83V070\, Ireland
CATEGORIES:All Events
ATTACH;FMTTYPE=image/png:https://stage.leanbusinessireland.ie/wp-content/uploads/2022/07/Copy-of-LBI-Event-Background-Image-AWARDS.png
END:VEVENT
BEGIN:VEVENT
DTSTART;TZID=Europe/Dublin:20251119T133000
DTEND;TZID=Europe/Dublin:20251119T163000
DTSTAMP:20260420T092616
CREATED:20251118T114456Z
LAST-MODIFIED:20251118T114456Z
UID:26044-1763559000-1763569800@stage.leanbusinessireland.ie
SUMMARY:FOCUS ON LEAN – Live Problem-Solving with Lean Thinking
DESCRIPTION:In collaboration with the Midlands Lean Network\, join us for an interactive\, hands-on event designed to showcase practical approaches to problem-solving using Lean methodologies. \nSolutions in Action brings together business leaders and practitioners to collaboratively tackle real-world challenges in a dynamic\, facilitated environment. \nDuring the session\, our expert team will guide participants through three live problem-solving workshops\, using challenges submitted by attendees! \nEach session will demonstrate how to apply Lean tools effectively—from root cause analysis to structured improvement techniques—offering actionable insights and fostering peer learning. \nWhether you’re looking to overcome operational bottlenecks\, improve processes\, or simply sharpen your problem-solving skills\, this event offers a unique opportunity to see Lean thinking in action. \nWho Should Attend \n\nBusiness owners and managers seeking practical solutions to operational challenges\nTeam leaders and project managers interested in Lean problem-solving techniques\nProfessionals involved in process improvement\, innovation\, or continuous improvement\nAnyone facing a specific business challenge and looking for structured\, expert-led support\n\nBooking essential. \nThis event is being provided free of charge to our clients. \nPlease only book if you intend to attend. \nThis supports our team to correctly prepare for the event and that those that want to attend get the opportunity to do so. Thank you for your cooperation. \n  \nGDPR NOTICE: Photo and video content will be taken at this event for social media\, reporting and promotion of future events. Please advise a member of the LEO team prior to the event\, if you wish to be not recognisable in that content.
URL:https://stage.leanbusinessireland.ie/event/focus-on-lean-live-problem-solving-with-lean-thinking/
LOCATION:MERITS\, Naas\, County Kildare\, Naas\, W91 FE8V\, Ireland
CATEGORIES:All Events,Midlands Lean Network
ATTACH;FMTTYPE=image/png:https://stage.leanbusinessireland.ie/wp-content/uploads/2024/10/midlands-logo-1.png
END:VEVENT
BEGIN:VEVENT
DTSTART;TZID=Europe/Dublin:20251125T180000
DTEND;TZID=Europe/Dublin:20251125T200000
DTSTAMP:20260420T092616
CREATED:20251118T115154Z
LAST-MODIFIED:20251118T115154Z
UID:26048-1764093600-1764100800@stage.leanbusinessireland.ie
SUMMARY:Southwest Lean Forum - Site Visit with Pipelife Ireland Solutions
DESCRIPTION:Site Visit with Pipelife \nJoin us for an exciting Site Visit at Pipelife Ireland Solutions Limited! Get an exclusive behind-the-scenes look at our operations and learn about our cutting-edge technologies. This in-person event is a great opportunity to network with industry professionals and gain valuable insights into the world of piping solutions. Don’t miss out on this unique experience!
URL:https://stage.leanbusinessireland.ie/event/southwest-lean-forum-site-visit-with-pipelife-ireland-solutions/
LOCATION:Pipelife Ireland Solutions Limited\, Castleview\, Little Island\, Cork\, T45 TX05
CATEGORIES:All Events,South West
ATTACH;FMTTYPE=image/png:https://stage.leanbusinessireland.ie/wp-content/uploads/2024/03/southwest-lean-logo.png
END:VEVENT
BEGIN:VEVENT
DTSTART;TZID=Europe/Dublin:20251126T083000
DTEND;TZID=Europe/Dublin:20251126T163000
DTSTAMP:20260420T092616
CREATED:20251118T115647Z
LAST-MODIFIED:20251118T115647Z
UID:26052-1764145800-1764174600@stage.leanbusinessireland.ie
SUMMARY:South East Lean Summit 2025
DESCRIPTION:Join us for the Annual South East Lean Network Lean Summit 2025\, co-hosted by SETU Li4 and Academy of Lean Enterprise Excellence. \nThis event offers a full day of insightful talks\, interactive workshops\, and networking opportunities. With critical contributions from cross-sectoral industry practitioners\, academics\, and trainers\, we will together explore the dynamic and integrated relationships between People\, Process\, and Technology\, with a focus on process optimisation\, digital transformation\, and practical tools to support your Lean and Digital journey. \nWhether you’re new to Lean or an experienced practitioner\, there’s something for everyone at the 2025 SELS. \nAgenda\n08:30 – 09:15 – Registration & Meet’n’Greet \n09:15 – 09:30 – Welcome & Summit Opening: Darrin Taylor (South East Technological University) \n9:30 – 10:15 – Keynote Speaker: Professor Daryl Powell (University of South-Eastern Norway) \n10:15 – 10:30 – Break/Transition \n10:30 – 12:30 – Morning Sessions (Choose One): \n\nMain Stage – People\, Process\, Technology: Presentations by various industry practitioners\nWorkshop 1 – Data-Driven Process Optimisation: Analytics\, Simulations & KPIs in Continuous Improvement\nWorkshop 2 – Lean AI Lab: AI for Lean Practitioners\nWorkshop 3 – Lean Starter Lab: Core Methods for Productivity\n\n12:30 – 13:30 – Lunch & Networking \n13:30 – 15:30 – Afternoon Sessions (Workshops Repeated – Choose a Different One if Desired): \n\nMain Stage – People\, Process\, Technology: Presentations by Professor Peter Hines and various industry practitioners\nWorkshop 1 – Data-Driven Process Optimisation: Analytics & KPIs in Continuous Improvement\nWorkshop 2 – Lean AI Lab: AI for Lean Practitioners\nWorkshop 3 – Lean Starter Lab: Core Methods for Productivity\n\n15:30 – 15:45 – Break/Transition \n15:45 – 16:30 – Panel Discussion and Closing Remarks \nNote: Main Stage sessions feature different speakers in the morning and afternoon. Workshops are repeated to allow attendees to participate in more than one.
URL:https://stage.leanbusinessireland.ie/event/south-east-lean-summit-2025/
LOCATION:SETU Arena Waterford
CATEGORIES:All Events,South East
ATTACH;FMTTYPE=image/jpeg:https://stage.leanbusinessireland.ie/wp-content/uploads/2025/11/1757674321811-240x300-1.jpg
END:VEVENT
BEGIN:VEVENT
DTSTART;TZID=Europe/Dublin:20251204T090000
DTEND;TZID=Europe/Dublin:20251204T130000
DTSTAMP:20260420T092616
CREATED:20251118T120151Z
LAST-MODIFIED:20251118T120151Z
UID:26056-1764838800-1764853200@stage.leanbusinessireland.ie
SUMMARY:North East Lean Network – Mullan Lighting – Best Practice Visit
DESCRIPTION:The North East Lean Network is delighted that one of our regions renowned companies – Mullan Lighting are pleased to host this visit on the 4th of December
URL:https://stage.leanbusinessireland.ie/event/north-east-lean-network-mullan-lighting-best-practice-visit/
LOCATION:Mullan Lighting\, Emyvale\, Monaghan\, H18 EC98
CATEGORIES:All Events,North East Lean Network
ATTACH;FMTTYPE=image/jpeg:https://stage.leanbusinessireland.ie/wp-content/uploads/2025/11/North-East-event-300x211-1.jpg
END:VEVENT
BEGIN:VEVENT
DTSTART;TZID=Europe/Dublin:20251209T130000
DTEND;TZID=Europe/Dublin:20251209T140000
DTSTAMP:20260420T092616
CREATED:20251209T122818Z
LAST-MODIFIED:20251209T122818Z
UID:26133-1765285200-1765288800@stage.leanbusinessireland.ie
SUMMARY:Dublin Lean Network – What is OEE?
DESCRIPTION:Are you tracking OEE… or just guessing?\nFor many manufacturers\, OEE feels complicated — but it doesn’t have to be.\nNext Tuesday\, we’re running a lunchtime session that breaks it down in a practical\, real-world way. If you want to improve performance\, reduce downtime\, and get your teams genuinely engaged in continuous improvement\, this one is worth an hour of your day. \nWhat you’ll hear on the day:\n– Sam Jones (Evocon) – How digital OEE tracking gives a true picture of factory performance\n– Dave Scanlan (W. Howard) – How they measure the six big losses and what the data actually tells them\n– Mick Lyons (Barclay Chemicals) – Moving from manual tracking to a fully automated OEE system \nWhen: Tuesday\, 9 December 2025\nTime: 1:00–2:00pm\nFree for all Dublin Lean Network members\nIf you’re a manufacturing company trying to get more from your processes — or just want to see what ‘good’ looks like — join us.\nRegister here: https://lnkd.in/eyvYJcum
URL:https://stage.leanbusinessireland.ie/event/dublin-lean-network-what-is-oee/
LOCATION:Online – Webinar
CATEGORIES:All Events,Dublin Lean Network
ATTACH;FMTTYPE=image/jpeg:https://stage.leanbusinessireland.ie/wp-content/uploads/2025/12/Dublin-dec.jpg
END:VEVENT
BEGIN:VEVENT
DTSTART;TZID=Europe/Dublin:20260610T090000
DTEND;TZID=Europe/Dublin:20260610T163000
DTSTAMP:20260420T092616
CREATED:20250822T113957Z
LAST-MODIFIED:20250822T114035Z
UID:26024-1781082000-1781109000@stage.leanbusinessireland.ie
SUMMARY:LBI presents Enterprise Excellence Conference 2026
DESCRIPTION:Recognising Ireland as a Global Leader in Lean\, Continuous Improvement\, Digitalisation\, Sustainability\, and Organisational/Operational/Enterprise Excellence. \n10th June 2026\, Atlantic Technological University (ATU)\, Sligo. LBI 2026 is run in conjunction with the Atlantic Lean Network. \nLearn more
URL:https://stage.leanbusinessireland.ie/event/lbi-presents-enterprise-excellence-conference-2026/
LOCATION:ATU\, Sligo Ash Lane F91 YW50 Sligo\, ATU\, Sligo\, Sligo\, F91 YW50\, Ireland
CATEGORIES:All Events,Conference
ATTACH;FMTTYPE=image/png:https://stage.leanbusinessireland.ie/wp-content/uploads/2025/08/cropped-lbi-2026.png
END:VEVENT
BEGIN:VEVENT
DTSTART;TZID=Europe/Dublin:20261006T090000
DTEND;TZID=Europe/Dublin:20261006T170000
DTSTAMP:20260420T092616
CREATED:20251209T123153Z
LAST-MODIFIED:20251209T123153Z
UID:26136-1791277200-1791306000@stage.leanbusinessireland.ie
SUMMARY:ICBE Conference 2026
DESCRIPTION:Navigating Transformation – AI\, Sustainability and Leadership\nJoin us for ICBE’s flagship gathering\, with our members and panels of industry leaders\, together with international experts and speakers. \nICBE Conference 2026 promises to be a high energy and interactive event with lots of opportunity for knowledge-sharing and new insights to help drive your business excellence journey.
URL:https://stage.leanbusinessireland.ie/event/icbe-conference-2026/
LOCATION:Johnstown Estate Hotel\, Meath\, A83V070\, Ireland
CATEGORIES:All Events
ATTACH;FMTTYPE=image/png:https://stage.leanbusinessireland.ie/wp-content/uploads/2024/10/icbe-logo-3.png
END:VEVENT
BEGIN:VEVENT
DTSTART;TZID=Europe/Dublin:20261022T180000
DTEND;TZID=Europe/Dublin:20261022T233000
DTSTAMP:20260420T092616
CREATED:20251209T123532Z
LAST-MODIFIED:20251209T123532Z
UID:26139-1792692000-1792711800@stage.leanbusinessireland.ie
SUMMARY:LBI Excellence Awards 2026
DESCRIPTION:The Annual LBI Awards Ceremony takes place in Johnstown Estate\, Co. Meath on the 22nd of October 2026\n\n\n\n\n\n\n\n\n\n\n\n\nIreland is viewed at home and abroad as a global exemplar in Lean\, Continuous Improvement\, and Organisational\, Operational\, and Enterprise Excellence. \nThe Annual LBI Awards Ceremony brings together the all-island Lean ecosystem and community of learning and practice to recognise and celebrate excellence across public and private organisations of all scales and sizes\, and from across all sectors. \nThe Annual LBI Awards Ceremony is a wonderful opportunity to socialise and network with fellow Lean and Continuous Improvement colleagues from all around Ireland. The LBI Awards are open to entries from organisations that can demonstrate the effective implementation of Lean thinking and practices in their organisational\, operational\, and enterprise excellence journeys. \nThere is no charge to submit entries for the LBI Awards\, and organisations can enter up to three categories. \nThe deadline for entries is the 21st of August 2026\, so please do not delay in submitting your entries. \nThe LBI Steering Committee wishes all entrants the best of luck\, and we look forward to meeting you at the Annual LBI Awards Ceremony in Johnstown Estate\, Co. Meath on the 22nd of October 2026.
URL:https://stage.leanbusinessireland.ie/event/lbi-excellence-awards-2026/
LOCATION:Johnstown Estate Hotel\, Meath\, A83V070\, Ireland
CATEGORIES:All Events
ATTACH;FMTTYPE=image/png:https://stage.leanbusinessireland.ie/wp-content/uploads/2025/12/lbi-Awards-2026.png
END:VEVENT
END:VCALENDAR