BEGIN:VCALENDAR
VERSION:2.0
PRODID:-//Lean Business Ireland - ECPv6.15.12.2//NONSGML v1.0//EN
CALSCALE:GREGORIAN
METHOD:PUBLISH
X-ORIGINAL-URL:https://stage.leanbusinessireland.ie
X-WR-CALDESC:Events for Lean Business Ireland
REFRESH-INTERVAL;VALUE=DURATION:PT1H
X-Robots-Tag:noindex
X-PUBLISHED-TTL:PT1H
BEGIN:VTIMEZONE
TZID:Europe/Dublin
BEGIN:STANDARD
TZOFFSETFROM:+0000
TZOFFSETTO:+0100
TZNAME:IST
DTSTART:20240331T010000
END:STANDARD
BEGIN:DAYLIGHT
TZOFFSETFROM:+0100
TZOFFSETTO:+0000
TZNAME:GMT
DTSTART:20241027T010000
END:DAYLIGHT
BEGIN:STANDARD
TZOFFSETFROM:+0000
TZOFFSETTO:+0100
TZNAME:IST
DTSTART:20250330T010000
END:STANDARD
BEGIN:DAYLIGHT
TZOFFSETFROM:+0100
TZOFFSETTO:+0000
TZNAME:GMT
DTSTART:20251026T010000
END:DAYLIGHT
BEGIN:STANDARD
TZOFFSETFROM:+0000
TZOFFSETTO:+0100
TZNAME:IST
DTSTART:20260329T010000
END:STANDARD
BEGIN:DAYLIGHT
TZOFFSETFROM:+0100
TZOFFSETTO:+0000
TZNAME:GMT
DTSTART:20261025T010000
END:DAYLIGHT
END:VTIMEZONE
BEGIN:VEVENT
DTSTART;TZID=Europe/Dublin:20251126T083000
DTEND;TZID=Europe/Dublin:20251126T163000
DTSTAMP:20260423T123850
CREATED:20251118T115647Z
LAST-MODIFIED:20251118T115647Z
UID:26052-1764145800-1764174600@stage.leanbusinessireland.ie
SUMMARY:South East Lean Summit 2025
DESCRIPTION:Join us for the Annual South East Lean Network Lean Summit 2025\, co-hosted by SETU Li4 and Academy of Lean Enterprise Excellence. \nThis event offers a full day of insightful talks\, interactive workshops\, and networking opportunities. With critical contributions from cross-sectoral industry practitioners\, academics\, and trainers\, we will together explore the dynamic and integrated relationships between People\, Process\, and Technology\, with a focus on process optimisation\, digital transformation\, and practical tools to support your Lean and Digital journey. \nWhether you’re new to Lean or an experienced practitioner\, there’s something for everyone at the 2025 SELS. \nAgenda\n08:30 – 09:15 – Registration & Meet’n’Greet \n09:15 – 09:30 – Welcome & Summit Opening: Darrin Taylor (South East Technological University) \n9:30 – 10:15 – Keynote Speaker: Professor Daryl Powell (University of South-Eastern Norway) \n10:15 – 10:30 – Break/Transition \n10:30 – 12:30 – Morning Sessions (Choose One): \n\nMain Stage – People\, Process\, Technology: Presentations by various industry practitioners\nWorkshop 1 – Data-Driven Process Optimisation: Analytics\, Simulations & KPIs in Continuous Improvement\nWorkshop 2 – Lean AI Lab: AI for Lean Practitioners\nWorkshop 3 – Lean Starter Lab: Core Methods for Productivity\n\n12:30 – 13:30 – Lunch & Networking \n13:30 – 15:30 – Afternoon Sessions (Workshops Repeated – Choose a Different One if Desired): \n\nMain Stage – People\, Process\, Technology: Presentations by Professor Peter Hines and various industry practitioners\nWorkshop 1 – Data-Driven Process Optimisation: Analytics & KPIs in Continuous Improvement\nWorkshop 2 – Lean AI Lab: AI for Lean Practitioners\nWorkshop 3 – Lean Starter Lab: Core Methods for Productivity\n\n15:30 – 15:45 – Break/Transition \n15:45 – 16:30 – Panel Discussion and Closing Remarks \nNote: Main Stage sessions feature different speakers in the morning and afternoon. Workshops are repeated to allow attendees to participate in more than one.
URL:https://stage.leanbusinessireland.ie/event/south-east-lean-summit-2025/
LOCATION:SETU Arena Waterford
CATEGORIES:All Events,South East
ATTACH;FMTTYPE=image/jpeg:https://stage.leanbusinessireland.ie/wp-content/uploads/2025/11/1757674321811-240x300-1.jpg
END:VEVENT
END:VCALENDAR