BEGIN:VCALENDAR
VERSION:2.0
PRODID:-//Lean Business Ireland - ECPv6.15.12.2//NONSGML v1.0//EN
CALSCALE:GREGORIAN
METHOD:PUBLISH
X-ORIGINAL-URL:https://stage.leanbusinessireland.ie
X-WR-CALDESC:Events for Lean Business Ireland
REFRESH-INTERVAL;VALUE=DURATION:PT1H
X-Robots-Tag:noindex
X-PUBLISHED-TTL:PT1H
BEGIN:VTIMEZONE
TZID:Europe/Dublin
BEGIN:STANDARD
TZOFFSETFROM:+0000
TZOFFSETTO:+0100
TZNAME:IST
DTSTART:20220327T010000
END:STANDARD
BEGIN:DAYLIGHT
TZOFFSETFROM:+0100
TZOFFSETTO:+0000
TZNAME:GMT
DTSTART:20221030T010000
END:DAYLIGHT
BEGIN:STANDARD
TZOFFSETFROM:+0000
TZOFFSETTO:+0100
TZNAME:IST
DTSTART:20230326T010000
END:STANDARD
BEGIN:DAYLIGHT
TZOFFSETFROM:+0100
TZOFFSETTO:+0000
TZNAME:GMT
DTSTART:20231029T010000
END:DAYLIGHT
BEGIN:STANDARD
TZOFFSETFROM:+0000
TZOFFSETTO:+0100
TZNAME:IST
DTSTART:20240331T010000
END:STANDARD
BEGIN:DAYLIGHT
TZOFFSETFROM:+0100
TZOFFSETTO:+0000
TZNAME:GMT
DTSTART:20241027T010000
END:DAYLIGHT
END:VTIMEZONE
BEGIN:VEVENT
DTSTART;TZID=Europe/Dublin:20230517T073000
DTEND;TZID=Europe/Dublin:20230517T160000
DTSTAMP:20260425T035805
CREATED:20230322T143239Z
LAST-MODIFIED:20230322T143239Z
UID:25321-1684308600-1684339200@stage.leanbusinessireland.ie
SUMMARY:Visit to Toyota UK
DESCRIPTION:[vc_row type=”in_container” full_screen_row_position=”middle” equal_height=”yes” scene_position=”center” text_color=”dark” text_align=”left” overlay_strength=”0.3″][vc_column column_padding=”no-extra-padding” column_padding_position=”all” background_color_opacity=”1″ background_hover_color_opacity=”1″ column_shadow=”none” width=”1/1″ tablet_text_alignment=”default” phone_text_alignment=”default” column_border_width=”none” column_border_style=”solid”][vc_custom_heading text=”About the Visit” google_fonts=”font_family:Dosis%3A200%2C300%2Cregular%2C500%2C600%2C700%2C800|font_style:400%20regular%3A400%3Anormal” css_animation=”right-to-left”][divider line_type=”Small Line” line_thickness=”3″ divider_color=”accent-color”][vc_column_text]On 17th May\, the Dublin Lean Network are travelling to the UK for a visit to Toyota for an in-depth introduction to the world famous Toyota Production System (TPS).  This visit also includes: \n–  A visit to their 3 Best Development Obeya – structuring and visualising job roles as a key tool for member and operations development. \n–  A visit to their Quality Learning Centre where they reinforce Toyota’s quality activity in each member through experiential learning. \n–  Experiential shopfloor tours making the link from theory to practice. \n–  A Q&A session with Senior Management.[/vc_column_text][divider line_type=”No Line”][text-with-icon icon_type=”font_icon” icon=”icon-envelope-alt” color=”Accent-Color”]This is an important event not to be missed – please contact stevehalpin@leanteams.com as soon as possible to reserve your place.[/text-with-icon][text-with-icon icon_type=”font_icon” icon=”icon-th-list” color=”Accent-Color”]Please refer the itenerary below:-[/text-with-icon][image_with_animation image_url=”25317″ alignment=”” animation=”Fade In” box_shadow=”none” max_width=”100%”][/vc_column][/vc_row]
URL:https://stage.leanbusinessireland.ie/event/visit-to-toyota-uk/
LOCATION:Toyota Lean Management Centre UK\, Deeside\, Flintshire\, North Wales\, United Kingdom
CATEGORIES:Dublin Lean Network
ATTACH;FMTTYPE=image/jpeg:https://stage.leanbusinessireland.ie/wp-content/uploads/2023/03/Totyota.jpg
END:VEVENT
END:VCALENDAR