BEGIN:VCALENDAR
VERSION:2.0
PRODID:-//Lean Business Ireland - ECPv6.15.12.2//NONSGML v1.0//EN
CALSCALE:GREGORIAN
METHOD:PUBLISH
X-ORIGINAL-URL:https://stage.leanbusinessireland.ie
X-WR-CALDESC:Events for Lean Business Ireland
REFRESH-INTERVAL;VALUE=DURATION:PT1H
X-Robots-Tag:noindex
X-PUBLISHED-TTL:PT1H
BEGIN:VTIMEZONE
TZID:Europe/Dublin
BEGIN:STANDARD
TZOFFSETFROM:+0000
TZOFFSETTO:+0100
TZNAME:IST
DTSTART:20240331T010000
END:STANDARD
BEGIN:DAYLIGHT
TZOFFSETFROM:+0100
TZOFFSETTO:+0000
TZNAME:GMT
DTSTART:20241027T010000
END:DAYLIGHT
BEGIN:STANDARD
TZOFFSETFROM:+0000
TZOFFSETTO:+0100
TZNAME:IST
DTSTART:20250330T010000
END:STANDARD
BEGIN:DAYLIGHT
TZOFFSETFROM:+0100
TZOFFSETTO:+0000
TZNAME:GMT
DTSTART:20251026T010000
END:DAYLIGHT
BEGIN:STANDARD
TZOFFSETFROM:+0000
TZOFFSETTO:+0100
TZNAME:IST
DTSTART:20260329T010000
END:STANDARD
BEGIN:DAYLIGHT
TZOFFSETFROM:+0100
TZOFFSETTO:+0000
TZNAME:GMT
DTSTART:20261025T010000
END:DAYLIGHT
END:VTIMEZONE
BEGIN:VEVENT
DTSTART;TZID=Europe/Dublin:20250903T080000
DTEND;TZID=Europe/Dublin:20250903T113000
DTSTAMP:20260423T110611
CREATED:20250820T121230Z
LAST-MODIFIED:20250820T121230Z
UID:26004-1756886400-1756899000@stage.leanbusinessireland.ie
SUMMARY:Dublin Lean Network - Experience Lean In Action
DESCRIPTION:See Lean In Action – Applied Concepts\, Birr\, Co. Offaly
URL:https://stage.leanbusinessireland.ie/event/dublin-lean-network-experience-lean-in-action/
LOCATION:applied concepts\, Roscrea Road\, Birr\, R42 XW08\, Ireland
CATEGORIES:All Events,Dublin Lean Network
ATTACH;FMTTYPE=image/png:https://stage.leanbusinessireland.ie/wp-content/uploads/2025/08/dub-sept.png
END:VEVENT
BEGIN:VEVENT
DTSTART;TZID=Europe/Dublin:20250917T130000
DTEND;TZID=Europe/Dublin:20250917T140000
DTSTAMP:20260423T110611
CREATED:20250905T123724Z
LAST-MODIFIED:20250905T123724Z
UID:26036-1758114000-1758117600@stage.leanbusinessireland.ie
SUMMARY:The South West Lean Forum presents: Lunchtime Bites: Leadership and Culture hosted by Aidan Magner
DESCRIPTION:The South West Lean Forum presents a Lunchtime Bites session on Leadership and Culture with Aidan Magner\, Head of Supply Chain and Process Excellence\, 3SIXTY. \nJoin us for this online event exploring the intersection of leadership and culture. Don’t miss this opportunity to connect with like-minded individuals and expand your knowledge. \nDate: Wednesday September 17th 2025 Time: 1pm to 1.45pm \nLocation: Online via Microsoft Teams. Click here to register.
URL:https://stage.leanbusinessireland.ie/event/the-south-west-lean-forum-presents-lunchtime-bites-leadership-and-culture-hosted-by-aidan-magner/
LOCATION:Online – Webinar
CATEGORIES:All Events,South West
ATTACH;FMTTYPE=image/jpeg:https://stage.leanbusinessireland.ie/wp-content/uploads/2020/04/South-West-Lean-Forum.jpeg
END:VEVENT
END:VCALENDAR