BEGIN:VCALENDAR
VERSION:2.0
PRODID:-//Lean Business Ireland - ECPv6.15.12.2//NONSGML v1.0//EN
CALSCALE:GREGORIAN
METHOD:PUBLISH
X-ORIGINAL-URL:https://stage.leanbusinessireland.ie
X-WR-CALDESC:Events for Lean Business Ireland
REFRESH-INTERVAL;VALUE=DURATION:PT1H
X-Robots-Tag:noindex
X-PUBLISHED-TTL:PT1H
BEGIN:VTIMEZONE
TZID:Europe/Dublin
BEGIN:STANDARD
TZOFFSETFROM:+0000
TZOFFSETTO:+0100
TZNAME:IST
DTSTART:20240331T010000
END:STANDARD
BEGIN:DAYLIGHT
TZOFFSETFROM:+0100
TZOFFSETTO:+0000
TZNAME:GMT
DTSTART:20241027T010000
END:DAYLIGHT
BEGIN:STANDARD
TZOFFSETFROM:+0000
TZOFFSETTO:+0100
TZNAME:IST
DTSTART:20250330T010000
END:STANDARD
BEGIN:DAYLIGHT
TZOFFSETFROM:+0100
TZOFFSETTO:+0000
TZNAME:GMT
DTSTART:20251026T010000
END:DAYLIGHT
BEGIN:STANDARD
TZOFFSETFROM:+0000
TZOFFSETTO:+0100
TZNAME:IST
DTSTART:20260329T010000
END:STANDARD
BEGIN:DAYLIGHT
TZOFFSETFROM:+0100
TZOFFSETTO:+0000
TZNAME:GMT
DTSTART:20261025T010000
END:DAYLIGHT
END:VTIMEZONE
BEGIN:VEVENT
DTSTART;TZID=Europe/Dublin:20250807T130000
DTEND;TZID=Europe/Dublin:20250807T140000
DTSTAMP:20260423T123724
CREATED:20250731T114634Z
LAST-MODIFIED:20250731T115158Z
UID:25908-1754571600-1754575200@stage.leanbusinessireland.ie
SUMMARY:DUBLIN LEAN NETWORK EVENT: KEVIN BRADY OF APPLIED CONCEPTS
DESCRIPTION:For August 2025\, Dublin Lean Network is delighted to welcome Kevin Brady of Applied Concepts Ltd. as our Guest Speaker. \nEVENT DETAILS\nDate: Thursday\, 7th August 2025 – Time: 13:00 – 14:00\nLocation: Online – REGISTER HERE \nThis event is designed to help organisations grow their people and teach them to see the 8 Wastes\, ensuring long-term efficiency and success. You will learn:\n?? How to identify and eliminate waste in your processes\n?? The importance of “going slow to go fast”\n?? Practical Lean tools that empower employees and foster improvement \nAbout Kevin Brady: \nKevin Brady is Production/Design/Process Engineer at Applied Concepts. He is an experienced Design Engineer with a passion for Lean Thinking and Continuous Improvement. His company\, Applied Concepts\, is a manufacturer and supplier of Sand Blasting Equipment located in Roscrea Road\, Birr\, Co. Offaly.
URL:https://stage.leanbusinessireland.ie/event/dublin-lean-network-event/
LOCATION:Online – Webinar
CATEGORIES:All Events,Dublin Lean Network
ATTACH;FMTTYPE=image/jpeg:https://stage.leanbusinessireland.ie/wp-content/uploads/2025/07/dubAug.jpg
END:VEVENT
BEGIN:VEVENT
DTSTART;TZID=Europe/Dublin:20250828T100000
DTEND;TZID=Europe/Dublin:20250828T130000
DTSTAMP:20260423T123724
CREATED:20250724T094658Z
LAST-MODIFIED:20250808T081526Z
UID:25891-1756375200-1756386000@stage.leanbusinessireland.ie
SUMMARY:Mid-West Lean Workshop and Site Tour at Britvic Ireland\, Newcastle West site
DESCRIPTION:Please note that this event has been moved from the 21st of August to the 28th of August. \nMid-West Lean Network in conjunction with Britvic Ireland are delighted to invite you to a unique opportunity to explore Britvic Ireland’s lean journey—past\, present\, and future. \nWorkshop Highlights: \n\n\nA deep dive into our lean transformation to date \n\n\nInsights into the future of lean at Britvic Ireland \n\n\nQ&A and networking opportunities \n\n\nOptional Site Tour: Subject to group size and participant eligibility (please note: due to competitive sensitivities\, site tours are not available to attendees from companies in the same industry). \nDuration: 2 hours total — designed to deliver maximum value within your busy schedule. \nAbout Britvic Ireland \nBritvic Ireland\, part of the Carlsberg Group\, is a leading soft drinks manufacturer with a proud heritage spanning over 240 years. With operations across the island and over 400 employees\, we produce and market some of Ireland’s most iconic brands including Ballygowan\, MiWadi\, Club\, Cidona\, and TK\, as well as globally recognised names like Robinsons\, Fruit Shoot\, and Pepsi (under licence). \nOur Kylemore Road facility in Ballyfermot has been at the heart of Irish soft drinks production for 50 years\, while our Newcastle West site has proudly bottled Ballygowan for over 35 years. \nSpaces are limited to just 20 attendees\, please book online to secure your place! \nWe look forward to welcoming you to Britvic Ireland and sharing our journey of continuous improvement.
URL:https://stage.leanbusinessireland.ie/event/mid-west-lean-workshop-and-site-tour-at-britvic-ireland-newcastle-west-site/
LOCATION:Britvic Ireland Ballygowan\, Newcastle West\, V42 D452
CATEGORIES:All Events,Mid West Lean Network
ATTACH;FMTTYPE=image/png:https://stage.leanbusinessireland.ie/wp-content/uploads/2024/03/midwest-lean-logo.png
END:VEVENT
END:VCALENDAR